BEGIN:VCALENDAR
VERSION:2.0
PRODID:-//ChamberMaster//Event Calendar 2.0//EN
METHOD:PUBLISH
X-PUBLISHED-TTL:P3D
REFRESH-INTERVAL:P3D
CALSCALE:GREGORIAN
BEGIN:VEVENT
DTSTART:20160310T161500Z
DTEND:20160310T180000Z
X-MICROSOFT-CDO-ALLDAYEVENT:FALSE
SUMMARY:Women's Division Committee Meeting
DESCRIPTION:Garden Grove Chamber Women's Division Committee Meeting.
X-ALT-DESC;FMTTYPE=text/html:Garden Grove Chamber Women&#39\;s Division Committee Meeting.
LOCATION:Garden Grove Chamber Office 12866 Main Street\, Suite 102 Garden Grove\, CA 92840
UID:e.1315.1806
SEQUENCE:3
DTSTAMP:20260421T005206Z
URL:http://business.gardengrovechamber.com/events/details/women-s-division-committee-meeting-03-10-2016-1806
END:VEVENT

END:VCALENDAR
