BEGIN:VCALENDAR
VERSION:2.0
PRODID:-//ChamberMaster//Event Calendar 2.0//EN
METHOD:PUBLISH
X-PUBLISHED-TTL:P3D
REFRESH-INTERVAL:P3D
CALSCALE:GREGORIAN
BEGIN:VEVENT
DTSTART:20170316T183000Z
DTEND:20170316T200000Z
X-MICROSOFT-CDO-ALLDAYEVENT:FALSE
SUMMARY:Women's Division Luncheon
DESCRIPTION:Come join us at the Garden Grove Chamber Women's Division Luncheon held every third Thursday of the month (we go dark in July and August).  Each month we have an interesting guest speaker.
X-ALT-DESC;FMTTYPE=text/html:Come join us at the Garden Grove Chamber Women&#39\;s Division Luncheon held every third Thursday of the month (we go dark in July and August). &nbsp\;Each month we have an interesting guest speaker. &nbsp\;
LOCATION:Garden Grove Elk's Lodge 11551 Trask Avenue Garden Grove\, CA 92843
UID:e.1315.5983
SEQUENCE:3
DTSTAMP:20260420T061114Z
URL:http://business.gardengrovechamber.com/events/details/women-s-division-luncheon-03-16-2017-5983
END:VEVENT

END:VCALENDAR
