BEGIN:VCALENDAR
VERSION:2.0
PRODID:-//ChamberMaster//Event Calendar 2.0//EN
METHOD:PUBLISH
X-PUBLISHED-TTL:P3D
REFRESH-INTERVAL:P3D
CALSCALE:GREGORIAN
BEGIN:VEVENT
DTSTART:20160317T183000Z
DTEND:20160317T200000Z
X-MICROSOFT-CDO-ALLDAYEVENT:FALSE
SUMMARY:Women's Division Luncheon
DESCRIPTION:Come join us at the Garden Grove Chamber Women's Division Luncheon held every third Thursday of the month (we go dark in July and August).  Each month we have an interesting guest speaker.
X-ALT-DESC;FMTTYPE=text/html:Come join us at the Garden Grove Chamber Women&#39\;s Division Luncheon held every third Thursday of the month (we go dark in July and August). &nbsp\;Each month we have an interesting guest speaker. &nbsp\;
LOCATION:Garden Grove Elks's Lodge 11551 Trask Avenue Garden Grove\, CA 92843
UID:e.1315.3088
SEQUENCE:3
DTSTAMP:20260421T005113Z
URL:http://business.gardengrovechamber.com/events/details/women-s-division-luncheon-03-17-2016-3088
END:VEVENT

END:VCALENDAR
