BEGIN:VCALENDAR
VERSION:2.0
PRODID:-//ChamberMaster//Event Calendar 2.0//EN
METHOD:PUBLISH
X-PUBLISHED-TTL:P3D
REFRESH-INTERVAL:P3D
CALSCALE:GREGORIAN
BEGIN:VEVENT
DTSTART:20150416T183000Z
DTEND:20150416T200000Z
X-MICROSOFT-CDO-ALLDAYEVENT:FALSE
SUMMARY:Women's Division Luncheon
DESCRIPTION:Come join us at the Garden Grove Chamber Women's Division Luncheon held every third Thursday of the month (we go dark in July and August).  Each month we have an interesting guest speaker.  We will be having our Board Elections.
X-ALT-DESC;FMTTYPE=text/html:Come join us at the Garden Grove Chamber Women&#39\;s Division Luncheon held every third Thursday of the month (we go dark in July and August). &nbsp\;Each month we have an interesting guest speaker. &nbsp\;We will be having our Board Elections.
LOCATION:Garden Grove Elks's Lodge 11551 Trask Avenue Garden Grove\, CA 92843
UID:e.1315.1752
SEQUENCE:3
DTSTAMP:20260424T003256Z
URL:http://business.gardengrovechamber.com/events/details/women-s-division-luncheon-04-16-2015-1752
END:VEVENT

END:VCALENDAR
