BEGIN:VCALENDAR
VERSION:2.0
PRODID:-//ChamberMaster//Event Calendar 2.0//EN
METHOD:PUBLISH
X-PUBLISHED-TTL:P3D
REFRESH-INTERVAL:P3D
CALSCALE:GREGORIAN
BEGIN:VEVENT
DTSTART:20141016T183000Z
DTEND:20141016T200000Z
X-MICROSOFT-CDO-ALLDAYEVENT:FALSE
SUMMARY:Women's Division Luncheon - Learn about Probate & Trusts
DESCRIPTION:Wear pink in support of Breast Cancer Awareness Month!!!\n\nCome join us at the Garden Grove Chamber Women's Division Luncheon held every third Thursday of the month (we go dark in July and August).  Each month we have an interesting guest speaker and this month we have Dwight E. Tompkins\, Attorney at Law\, speaking on Probate and Trusts.
X-ALT-DESC;FMTTYPE=text/html:<span style="font-size:14px\;"><strong><em><span style="background-color:#ffccff\;">Wear pink in support of Breast Cancer Awareness Month!!!</span></em></strong><br />\n<span style="background-color:#ffccff\;">Come join us at the Garden Grove Chamber Women&#39\;s Division Luncheon held every third Thursday of the month (we go dark in July and August). &nbsp\;Each month we have an interesting guest speaker and this month we have</span><em><span style="background-color:#ffccff\;"> </span><strong><span style="background-color:#ffccff\;">Dwight E. Tompkins\, Attorney at Law</span></strong></em><span style="background-color:#ffccff\;">\, speaking on</span><strong><span style="background-color:#ffccff\;"> </span></strong><strong><em><span style="background-color:#ffccff\;">Probate</span></em><span style="background-color:#ffccff\;"> </span><em><span style="background-color:#ffccff\;">and&nbsp\;</span></em></strong></span><strong style="font-size: 14px\; line-height: 22.3999996185303px\;"><em><span style="background-color:#ffccff\;">Trusts.</span></em></strong><span style="font-size:14px\;"><strong><span style="background-color:#ffccff\;">&nbsp\;</span></strong></span>
LOCATION:Garden Grove Elks's Lodge 11551 Trask Avenue Garden Grove\, CA 92843
UID:e.1315.1746
SEQUENCE:3
DTSTAMP:20260424T085759Z
URL:http://business.gardengrovechamber.com/events/details/women-s-division-luncheon-learn-about-probate-trusts-10-16-2014-1746
END:VEVENT

END:VCALENDAR
