BEGIN:VCALENDAR
VERSION:2.0
PRODID:-//ChamberMaster//Event Calendar 2.0//EN
METHOD:PUBLISH
X-PUBLISHED-TTL:P3D
REFRESH-INTERVAL:P3D
CALSCALE:GREGORIAN
BEGIN:VEVENT
DTSTART:20160519T183000Z
DTEND:20160519T200000Z
X-MICROSOFT-CDO-ALLDAYEVENT:FALSE
SUMMARY:Women's Division ROP Luncheon
DESCRIPTION:Come join us at the Garden Grove Chamber Women's Division Luncheon held every third Thursday of the month (we go dark in July and August).  Each month we have an interesting guest speaker.  \n\n\n\nWe hope you can join the Women's Division of the Garden Grove Chamber of Commerce to honor our ROP Scholarship Students for 2016. ROP Students are from the Garden Grove Unified School District and are selected by their teachers to be recipients of merit.
X-ALT-DESC;FMTTYPE=text/html:<span style="font-size:12px\;"><span style="font-family:arial\;">Come join us at the Garden Grove Chamber Women&#39\;s Division Luncheon held every third Thursday of the month (we go dark in July and August). &nbsp\;Each month we have an&nbsp\;interesting guest speaker. &nbsp\;<br />\n<br />\nWe hope you can join&nbsp\;the&nbsp\;Women&#39\;s Division of the Garden Grove Chamber of Commerce&nbsp\;to honor our&nbsp\;ROP Scholarship Students for 2016. ROP Students are from the Garden Grove Unified School District and are selected by their teachers to be recipients of merit.</span></span><br />\n&nbsp\;
LOCATION:Garden Grove Elks's Lodge 11551 Trask Avenue Garden Grove\, CA 92843
UID:e.1315.3090
SEQUENCE:3
DTSTAMP:20260420T214351Z
URL:http://business.gardengrovechamber.com/events/details/women-s-division-rop-luncheon-05-19-2016-3090
END:VEVENT

END:VCALENDAR
