BEGIN:VCALENDAR
VERSION:2.0
PRODID:-//ChamberMaster//Event Calendar 2.0//EN
METHOD:PUBLISH
X-PUBLISHED-TTL:P3D
REFRESH-INTERVAL:P3D
CALSCALE:GREGORIAN
BEGIN:VEVENT
DTSTART:20150307T030000Z
DTEND:20150307T050000Z
X-MICROSOFT-CDO-ALLDAYEVENT:FALSE
SUMMARY:Xandadu Jr at The Strawberry Bowl
DESCRIPTION:Masq Kids proudly presents Xandadu Jr. which is a moving\, electrifying tale of endless fun that will keep audiences in stitches\, while the original\, legendary chart-topping tunes lift them out of their seats.
X-ALT-DESC;FMTTYPE=text/html:<em><strong>Masq Kids</strong></em> proudly presents <strong><em>Xandadu</em></strong><strong><em> Jr</em></strong>. which is a moving\, electrifying tale of endless fun that will keep audiences in stitches\, while the original\, legendary chart-topping tunes lift them out of their seats.<br />\n&nbsp\;
LOCATION:The Strawberry Bowl 12762 Main Street Garden Grove\, CA 92840
UID:e.1315.2459
SEQUENCE:3
DTSTAMP:20260424T020908Z
URL:http://business.gardengrovechamber.com/events/details/xandadu-jr-at-the-strawberry-bowl-03-06-2015-2459
END:VEVENT

END:VCALENDAR
